BEGIN:VCALENDAR
VERSION:2.0
PRODID:-//DIOCESI DI ROMA - ECPv4.6.14.1//NONSGML v1.0//EN
CALSCALE:GREGORIAN
METHOD:PUBLISH
X-WR-CALNAME:DIOCESI DI ROMA
X-ORIGINAL-URL:https://www.diocesidiroma.it
X-WR-CALDESC:Eventi per DIOCESI DI ROMA
BEGIN:VEVENT
DTSTART;TZID=Europe/Rome:20250112T153000
DTEND;TZID=Europe/Rome:20250112T153000
DTSTAMP:20260421T065350
CREATED:20241002T122339Z
LAST-MODIFIED:20241002T122339Z
UID:31201-1736695800-1736695800@www.diocesidiroma.it
SUMMARY:Incontri di formazione per le Religiose che operano nella Pastorale Sanitaria - ore 15.30  Sala Conferenze Pontifico Seminario Romano - Uff. Sanità
DESCRIPTION:Incontri di formazione per le Religiose che operano nella Pastorale Sanitaria – ore 15.30 Sala Conferenze Pontifico Seminario Romano – Uff. Sanità \n
URL:https://www.diocesidiroma.it/event/incontri-di-formazione-per-le-religiose-che-operano-nella-pastorale-sanitaria-ore-15-30-sala-conferenze-pontifico-seminario-romano-uff-sanita/2025-01-12/
CATEGORIES:In Diocesi,Iniziative degli Uffici
END:VEVENT
END:VCALENDAR