BEGIN:VCALENDAR
VERSION:2.0
PRODID:-//DIOCESI DI ROMA - ECPv4.6.14.1//NONSGML v1.0//EN
CALSCALE:GREGORIAN
METHOD:PUBLISH
X-WR-CALNAME:DIOCESI DI ROMA
X-ORIGINAL-URL:https://www.diocesidiroma.it
X-WR-CALDESC:Eventi per DIOCESI DI ROMA
BEGIN:VEVENT
DTSTART;TZID=Europe/Rome:20251013T090000
DTEND;TZID=Europe/Rome:20251013T170000
DTSTAMP:20260421T182604
CREATED:20250910T105323Z
LAST-MODIFIED:20250910T105323Z
UID:36904-1760346000-1760374800@www.diocesidiroma.it
SUMMARY:Incontri formativi per i nuovi parroci - Sala Poletti (Ufficio per la Formazione Permanente del Clero)
DESCRIPTION:Incontri formativi per i nuovi parroci – Sala Poletti (Ufficio per la Formazione Permanente del Clero) \n
URL:https://www.diocesidiroma.it/event/incontri-formativi-per-i-nuovi-parroci-sala-poletti-ufficio-per-la-formazione-permanente-del-clero-2/
CATEGORIES:In Diocesi,Iniziative degli Uffici
END:VEVENT
END:VCALENDAR