BEGIN:VCALENDAR
VERSION:2.0
PRODID:-//DIOCESI DI ROMA - ECPv4.6.14.1//NONSGML v1.0//EN
CALSCALE:GREGORIAN
METHOD:PUBLISH
X-WR-CALNAME:DIOCESI DI ROMA
X-ORIGINAL-URL:https://www.diocesidiroma.it
X-WR-CALDESC:Eventi per DIOCESI DI ROMA
BEGIN:VEVENT
DTSTART;TZID=Europe/Rome:20251027T090000
DTEND;TZID=Europe/Rome:20251027T170000
DTSTAMP:20260424T034334
CREATED:20250910T110820Z
LAST-MODIFIED:20250910T110820Z
UID:36946-1761555600-1761584400@www.diocesidiroma.it
SUMMARY:Incontri formativi per i vicari parrocchiali e i cappellani (missione con cura d'anime) - Sala Poletti (Ufficio per la Formazione Permanente del Clero)
DESCRIPTION:Incontri formativi per i vicari parrocchiali e i cappellani (missione con cura d’anime) – Sala Poletti (Ufficio per la Formazione Permanente del Clero) \n
URL:https://www.diocesidiroma.it/event/incontri-formativi-per-i-vicari-parrocchiali-e-i-cappellani-missione-con-cura-danime-sala-poletti-ufficio-per-la-formazione-permanente-del-clero/
CATEGORIES:In Diocesi,Iniziative degli Uffici
END:VEVENT
END:VCALENDAR