BEGIN:VCALENDAR
VERSION:2.0
PRODID:-//DIOCESI DI ROMA - ECPv4.6.14.1//NONSGML v1.0//EN
CALSCALE:GREGORIAN
METHOD:PUBLISH
X-WR-CALNAME:DIOCESI DI ROMA
X-ORIGINAL-URL:https://www.diocesidiroma.it
X-WR-CALDESC:Eventi per DIOCESI DI ROMA
BEGIN:VEVENT
DTSTART;TZID=Europe/Rome:20221203T000000
DTEND;TZID=Europe/Rome:20221203T000000
DTSTAMP:20260421T115820
CREATED:20221128T095334Z
LAST-MODIFIED:20221128T095334Z
UID:24274-1670025600-1670025600@www.diocesidiroma.it
SUMMARY:Incontri teologici (Uff. Cultura e Università)
DESCRIPTION:Incontri teologici (Uff. Cultura e Università) \n
URL:https://www.diocesidiroma.it/event/incontri-teologici-uff-cultura-e-universita/
CATEGORIES:Iniziative degli Uffici
END:VEVENT
END:VCALENDAR