BEGIN:VCALENDAR
VERSION:2.0
PRODID:-//DIOCESI DI ROMA - ECPv4.6.14.1//NONSGML v1.0//EN
CALSCALE:GREGORIAN
METHOD:PUBLISH
X-WR-CALNAME:DIOCESI DI ROMA
X-ORIGINAL-URL:https://www.diocesidiroma.it
X-WR-CALDESC:Eventi per DIOCESI DI ROMA
BEGIN:VEVENT
DTSTART;TZID=Europe/Rome:20181027T180000
DTEND;TZID=Europe/Rome:20181027T220000
DTSTAMP:20260424T200148
CREATED:20180912T141148Z
LAST-MODIFIED:20180912T141430Z
UID:4438-1540663200-1540677600@www.diocesidiroma.it
SUMMARY:Incontro a Santa Croce su giovani\, discernimento e malattia
DESCRIPTION:Incontro nella basilica di Santa Croce in Gerusalemme su “I giovani\, la malattia e il discernimento vocazionale”\, a cura del Centro diocesano per la pastorale sanitaria. \n
URL:https://www.diocesidiroma.it/event/incontro-a-santa-croce-su-giovani-discernimento-e-malattia/
CATEGORIES:Iniziative degli Uffici
END:VEVENT
END:VCALENDAR