BEGIN:VCALENDAR
VERSION:2.0
PRODID:-//DIOCESI DI ROMA - ECPv4.6.14.1//NONSGML v1.0//EN
CALSCALE:GREGORIAN
METHOD:PUBLISH
X-WR-CALNAME:DIOCESI DI ROMA
X-ORIGINAL-URL:https://www.diocesidiroma.it
X-WR-CALDESC:Eventi per DIOCESI DI ROMA
BEGIN:VEVENT
DTSTART;TZID=Europe/Rome:20250318T190000
DTEND;TZID=Europe/Rome:20250318T190000
DTSTAMP:20260424T204838
CREATED:20250314T105405Z
LAST-MODIFIED:20250314T105405Z
UID:34467-1742324400-1742324400@www.diocesidiroma.it
SUMMARY:Incontro al Collegio Maronita
DESCRIPTION:Incontro al Collegio Maronita  \n
URL:https://www.diocesidiroma.it/event/incontro-al-collegio-maronita/
CATEGORIES:Vicario Generale
END:VEVENT
END:VCALENDAR