BEGIN:VCALENDAR
VERSION:2.0
PRODID:-//DIOCESI DI ROMA - ECPv4.6.14.1//NONSGML v1.0//EN
CALSCALE:GREGORIAN
METHOD:PUBLISH
X-WR-CALNAME:DIOCESI DI ROMA
X-ORIGINAL-URL:https://www.diocesidiroma.it
X-WR-CALDESC:Eventi per DIOCESI DI ROMA
BEGIN:VEVENT
DTSTART;TZID=Europe/Rome:20190608T000000
DTEND;TZID=Europe/Rome:20190608T000000
DTSTAMP:20260424T200153
CREATED:20181023T133021Z
LAST-MODIFIED:20181023T133021Z
UID:5279-1559952000-1559952000@www.diocesidiroma.it
SUMMARY:Incontro annuale per i catechisti dei Battesimi
DESCRIPTION:Incontro annuale per i catechisti dei Battesimi\, a cura dell’Ufficio catechistico. \n
URL:https://www.diocesidiroma.it/event/incontro-annuale-per-i-catechisti-dei-battesimi/
CATEGORIES:Iniziative degli Uffici
END:VEVENT
END:VCALENDAR