BEGIN:VCALENDAR
VERSION:2.0
PRODID:-//DIOCESI DI ROMA - ECPv4.6.14.1//NONSGML v1.0//EN
CALSCALE:GREGORIAN
METHOD:PUBLISH
X-WR-CALNAME:DIOCESI DI ROMA
X-ORIGINAL-URL:https://www.diocesidiroma.it
X-WR-CALDESC:Eventi per DIOCESI DI ROMA
BEGIN:VEVENT
DTSTART;VALUE=DATE:20171123
DTEND;VALUE=DATE:20171124
DTSTAMP:20260425T164902
CREATED:20171228T115600Z
LAST-MODIFIED:20171228T115600Z
UID:432-1511395200-1511481599@www.diocesidiroma.it
SUMMARY:Incontro Cappellani Migrantes
DESCRIPTION:
URL:https://www.diocesidiroma.it/event/incontro-cappellani-migrantes/
CATEGORIES:Iniziative degli Uffici
END:VEVENT
END:VCALENDAR