BEGIN:VCALENDAR
VERSION:2.0
PRODID:-//DIOCESI DI ROMA - ECPv4.6.14.1//NONSGML v1.0//EN
CALSCALE:GREGORIAN
METHOD:PUBLISH
X-WR-CALNAME:DIOCESI DI ROMA
X-ORIGINAL-URL:https://www.diocesidiroma.it
X-WR-CALDESC:Eventi per DIOCESI DI ROMA
BEGIN:VEVENT
DTSTART;TZID=Europe/Rome:20240116T183000
DTEND;TZID=Europe/Rome:20240116T183000
DTSTAMP:20260423T210242
CREATED:20240112T074818Z
LAST-MODIFIED:20240112T074818Z
UID:28427-1705429800-1705429800@www.diocesidiroma.it
SUMMARY:Incontro Cappellani Prefettura Centro-Est  – Sede A. O. San Giovanni – Addolorata - Ufficio per la  Pastorale Sanitaria
DESCRIPTION:Incontro Cappellani Prefettura Centro-Est  – Sede A. O. San Giovanni – Addolorata – Ufficio per la  Pastorale Sanitaria \n
URL:https://www.diocesidiroma.it/event/incontro-cappellani-prefettura-centro-est-sede-a-o-san-giovanni-addolorata-ufficio-per-la-pastorale-sanitaria/
CATEGORIES:Iniziative degli Uffici
END:VEVENT
END:VCALENDAR