BEGIN:VCALENDAR
VERSION:2.0
PRODID:-//DIOCESI DI ROMA - ECPv4.6.14.1//NONSGML v1.0//EN
CALSCALE:GREGORIAN
METHOD:PUBLISH
X-WR-CALNAME:DIOCESI DI ROMA
X-ORIGINAL-URL:https://www.diocesidiroma.it
X-WR-CALDESC:Eventi per DIOCESI DI ROMA
BEGIN:VEVENT
DTSTART;TZID=Europe/Rome:20240117T183000
DTEND;TZID=Europe/Rome:20240117T183000
DTSTAMP:20260424T041232
CREATED:20240112T075816Z
LAST-MODIFIED:20240112T075816Z
UID:28429-1705516200-1705516200@www.diocesidiroma.it
SUMMARY:Incontro Cappellani Prefettura Ovest 2 – Sede Parrocchia San Lino Papa – (Uff. past. Sanitaria)
DESCRIPTION: Incontro Cappellani Prefettura Ovest 2 – Sede Parrocchia San Lino Papa – (Uff. past. Sanitaria) \n
URL:https://www.diocesidiroma.it/event/incontro-cappellani-prefettura-ovest-2-sede-parrocchia-san-lino-papa-uff-past-sanitaria/
CATEGORIES:Iniziative degli Uffici
END:VEVENT
END:VCALENDAR