BEGIN:VCALENDAR
VERSION:2.0
PRODID:-//DIOCESI DI ROMA - ECPv4.6.14.1//NONSGML v1.0//EN
CALSCALE:GREGORIAN
METHOD:PUBLISH
X-WR-CALNAME:DIOCESI DI ROMA
X-ORIGINAL-URL:https://www.diocesidiroma.it
X-WR-CALDESC:Eventi per DIOCESI DI ROMA
BEGIN:VEVENT
DTSTART;TZID=Europe/Rome:20240119T183000
DTEND;TZID=Europe/Rome:20240119T183000
DTSTAMP:20260423T182458
CREATED:20240112T080358Z
LAST-MODIFIED:20240112T080358Z
UID:28434-1705689000-1705689000@www.diocesidiroma.it
SUMMARY:Incontro Cappellani Prefettura Sud – Sede Parrocchia Ss. Annunziata - – (Uff. past. Sanitaria)
DESCRIPTION:Incontro Cappellani Prefettura Sud – Sede Parrocchia Ss. Annunziata – – (Uff. past. Sanitaria) \n
URL:https://www.diocesidiroma.it/event/incontro-cappellani-prefettura-sud-sede-parrocchia-ss-annunziata-uff-past-sanitaria/
CATEGORIES:Iniziative degli Uffici
END:VEVENT
END:VCALENDAR