BEGIN:VCALENDAR
VERSION:2.0
PRODID:-//DIOCESI DI ROMA - ECPv4.6.14.1//NONSGML v1.0//EN
CALSCALE:GREGORIAN
METHOD:PUBLISH
X-WR-CALNAME:DIOCESI DI ROMA
X-ORIGINAL-URL:https://www.diocesidiroma.it
X-WR-CALDESC:Eventi per DIOCESI DI ROMA
BEGIN:VEVENT
DTSTART;TZID=Europe/Rome:20191126T173000
DTEND;TZID=Europe/Rome:20191126T193000
DTSTAMP:20260422T113448
CREATED:20191118T081924Z
LAST-MODIFIED:20191118T081924Z
UID:9299-1574789400-1574796600@www.diocesidiroma.it
SUMMARY:Incontro Commissione con gli animatori ecumenici presso la parrocchia di Santa Lucia
DESCRIPTION:Incontro Commissione con gli animatori ecumenici presso la parrocchia di Santa Lucia\, a cura dell’Ufficio per l’ecumenismo e il dialogo. \n
URL:https://www.diocesidiroma.it/event/incontro-commissione-con-gli-animatori-ecumenici-presso-la-parrocchia-di-santa-lucia/
CATEGORIES:Iniziative degli Uffici
END:VEVENT
END:VCALENDAR