BEGIN:VCALENDAR
VERSION:2.0
PRODID:-//DIOCESI DI ROMA - ECPv4.6.14.1//NONSGML v1.0//EN
CALSCALE:GREGORIAN
METHOD:PUBLISH
X-WR-CALNAME:DIOCESI DI ROMA
X-ORIGINAL-URL:https://www.diocesidiroma.it
X-WR-CALDESC:Eventi per DIOCESI DI ROMA
BEGIN:VEVENT
DTSTART;TZID=Europe/Rome:20250520T103000
DTEND;TZID=Europe/Rome:20250520T103000
DTSTAMP:20260421T103516
CREATED:20250516T114814Z
LAST-MODIFIED:20250516T114814Z
UID:35674-1747737000-1747737000@www.diocesidiroma.it
SUMMARY:Incontro con i Direttori
DESCRIPTION:Incontro con i Direttori \n
URL:https://www.diocesidiroma.it/event/incontro-con-i-direttori-3/
CATEGORIES:Vicario Generale
END:VEVENT
END:VCALENDAR