BEGIN:VCALENDAR
VERSION:2.0
PRODID:-//DIOCESI DI ROMA - ECPv4.6.14.1//NONSGML v1.0//EN
CALSCALE:GREGORIAN
METHOD:PUBLISH
X-WR-CALNAME:DIOCESI DI ROMA
X-ORIGINAL-URL:https://www.diocesidiroma.it
X-WR-CALDESC:Eventi per DIOCESI DI ROMA
BEGIN:VEVENT
DTSTART;TZID=Europe/Rome:20250304T123000
DTEND;TZID=Europe/Rome:20250304T143000
DTSTAMP:20260422T070813
CREATED:20250228T094740Z
LAST-MODIFIED:20250228T094740Z
UID:34210-1741091400-1741098600@www.diocesidiroma.it
SUMMARY:Incontro con i direttori degli Uffici di pastorale
DESCRIPTION:Incontro con i direttori degli Uffici di pastorale  \n
URL:https://www.diocesidiroma.it/event/incontro-con-i-direttori-degli-uffici-di-pastorale-2/
CATEGORIES:Vicario Generale
END:VEVENT
END:VCALENDAR