BEGIN:VCALENDAR
VERSION:2.0
PRODID:-//DIOCESI DI ROMA - ECPv4.6.14.1//NONSGML v1.0//EN
CALSCALE:GREGORIAN
METHOD:PUBLISH
X-WR-CALNAME:DIOCESI DI ROMA
X-ORIGINAL-URL:https://www.diocesidiroma.it
X-WR-CALDESC:Eventi per DIOCESI DI ROMA
BEGIN:VEVENT
DTSTART;TZID=Europe/Rome:20250917T160000
DTEND;TZID=Europe/Rome:20250917T160000
DTSTAMP:20260423T220718
CREATED:20250912T095248Z
LAST-MODIFIED:20250912T095248Z
UID:37200-1758124800-1758124800@www.diocesidiroma.it
SUMMARY:Incontro con i genitori del Pontificio Istituto Sant’Apollinare
DESCRIPTION:Incontro con i genitori del Pontificio Istituto Sant’Apollinare \n
URL:https://www.diocesidiroma.it/event/incontro-con-i-genitori-del-pontificio-istituto-santapollinare/
CATEGORIES:Vicario Generale
END:VEVENT
END:VCALENDAR