BEGIN:VCALENDAR
VERSION:2.0
PRODID:-//DIOCESI DI ROMA - ECPv4.6.14.1//NONSGML v1.0//EN
CALSCALE:GREGORIAN
METHOD:PUBLISH
X-WR-CALNAME:DIOCESI DI ROMA
X-ORIGINAL-URL:https://www.diocesidiroma.it
X-WR-CALDESC:Eventi per DIOCESI DI ROMA
BEGIN:VEVENT
DTSTART;VALUE=DATE:20251011
DTEND;VALUE=DATE:20251012
DTSTAMP:20260424T074451
CREATED:20250910T104943Z
LAST-MODIFIED:20250910T104943Z
UID:36887-1760140800-1760227199@www.diocesidiroma.it
SUMMARY:Incontro con i Parroci che hanno una Cappella per l'Adorazione (Uff. per la formazione liturgica e la celebrazione dei Sacramenti)
DESCRIPTION:Incontro con i Parroci che hanno una Cappella per l’Adorazione (Uff. per la formazione liturgica e la celebrazione dei Sacramenti)  \n
URL:https://www.diocesidiroma.it/event/incontro-con-i-parroci-che-hanno-una-cappella-per-ladorazione-uff-per-la-formazione-liturgica-e-la-celebrazione-dei-sacramenti/
CATEGORIES:In Diocesi,Iniziative degli Uffici
END:VEVENT
END:VCALENDAR