BEGIN:VCALENDAR
VERSION:2.0
PRODID:-//DIOCESI DI ROMA - ECPv4.6.14.1//NONSGML v1.0//EN
CALSCALE:GREGORIAN
METHOD:PUBLISH
X-WR-CALNAME:DIOCESI DI ROMA
X-ORIGINAL-URL:https://www.diocesidiroma.it
X-WR-CALDESC:Eventi per DIOCESI DI ROMA
BEGIN:VEVENT
DTSTART;VALUE=DATE:20251124
DTEND;VALUE=DATE:20251125
DTSTAMP:20260421T091408
CREATED:20250910T122514Z
LAST-MODIFIED:20250910T122514Z
UID:37009-1763942400-1764028799@www.diocesidiroma.it
SUMMARY:Incontro con i parroci degli istituendi Lettori e Accoliti
DESCRIPTION:Incontro con i Parroci degli Istituendi Lettori e Accoliti (Ufficio per la formazione liturgica e la celebrazione dei Sacramenti) \n
URL:https://www.diocesidiroma.it/event/incontro-con-i-parroci-degli-istituendi-lettori-e-accoliti/
CATEGORIES:Iniziative degli Uffici
END:VEVENT
END:VCALENDAR