BEGIN:VCALENDAR
VERSION:2.0
PRODID:-//DIOCESI DI ROMA - ECPv4.6.14.1//NONSGML v1.0//EN
CALSCALE:GREGORIAN
METHOD:PUBLISH
X-WR-CALNAME:DIOCESI DI ROMA
X-ORIGINAL-URL:https://www.diocesidiroma.it
X-WR-CALDESC:Eventi per DIOCESI DI ROMA
BEGIN:VEVENT
DTSTART;TZID=Europe/Rome:20250130T140000
DTEND;TZID=Europe/Rome:20250130T160000
DTSTAMP:20260421T105739
CREATED:20250124T111309Z
LAST-MODIFIED:20250124T111309Z
UID:33483-1738245600-1738252800@www.diocesidiroma.it
SUMMARY:Incontro con i presidenti dei Municipi di Roma
DESCRIPTION:Incontro con i presidenti dei Municipi di Roma \n
URL:https://www.diocesidiroma.it/event/incontro-con-i-presidenti-dei-municipi-di-roma/
CATEGORIES:Vicario Generale
END:VEVENT
END:VCALENDAR