BEGIN:VCALENDAR
VERSION:2.0
PRODID:-//DIOCESI DI ROMA - ECPv4.6.14.1//NONSGML v1.0//EN
CALSCALE:GREGORIAN
METHOD:PUBLISH
X-WR-CALNAME:DIOCESI DI ROMA
X-ORIGINAL-URL:https://www.diocesidiroma.it
X-WR-CALDESC:Eventi per DIOCESI DI ROMA
BEGIN:VEVENT
DTSTART;VALUE=DATE:20250915
DTEND;VALUE=DATE:20250916
DTSTAMP:20260422T161940
CREATED:20250910T102513Z
LAST-MODIFIED:20250910T102513Z
UID:36829-1757894400-1757980799@www.diocesidiroma.it
SUMMARY:Incontro con i Sacerdoti del 1° Ascolto (Uff. per la formazione liturgica e la celebrazione dei Sacramenti)
DESCRIPTION:Incontro con i Sacerdoti del 1° Ascolto (Uff. per la formazione liturgica e la celebrazione dei Sacramenti) \n
URL:https://www.diocesidiroma.it/event/incontro-con-i-sacerdoti-del-1-ascolto-uff-per-la-formazione-liturgica-e-la-celebrazione-dei-sacramenti/
CATEGORIES:In Diocesi,Iniziative degli Uffici
END:VEVENT
END:VCALENDAR