BEGIN:VCALENDAR
VERSION:2.0
PRODID:-//DIOCESI DI ROMA - ECPv4.6.14.1//NONSGML v1.0//EN
CALSCALE:GREGORIAN
METHOD:PUBLISH
X-WR-CALNAME:DIOCESI DI ROMA
X-ORIGINAL-URL:https://www.diocesidiroma.it
X-WR-CALDESC:Eventi per DIOCESI DI ROMA
BEGIN:VEVENT
DTSTART;TZID=Europe/Rome:20250412T100000
DTEND;TZID=Europe/Rome:20250412T130000
DTSTAMP:20260424T200333
CREATED:20250404T094912Z
LAST-MODIFIED:20250407T065309Z
UID:34998-1744452000-1744462800@www.diocesidiroma.it
SUMMARY:Incontro con i Servizi Tutela Minori delle diocesi del Lazio
DESCRIPTION:Incontro con i Servizi Tutela Minori delle diocesi del Lazio  \n
URL:https://www.diocesidiroma.it/event/incontro-con-il-servizio-tutela-minori-della-regione-lazio/
CATEGORIES:Vicario Generale
END:VEVENT
END:VCALENDAR