BEGIN:VCALENDAR
VERSION:2.0
PRODID:-//DIOCESI DI ROMA - ECPv4.6.14.1//NONSGML v1.0//EN
CALSCALE:GREGORIAN
METHOD:PUBLISH
X-WR-CALNAME:DIOCESI DI ROMA
X-ORIGINAL-URL:https://www.diocesidiroma.it
X-WR-CALDESC:Eventi per DIOCESI DI ROMA
BEGIN:VEVENT
DTSTART;TZID=Europe/Rome:20241220T160000
DTEND;TZID=Europe/Rome:20241220T160000
DTSTAMP:20260423T142057
CREATED:20241216T075659Z
LAST-MODIFIED:20241216T075659Z
UID:32592-1734710400-1734710400@www.diocesidiroma.it
SUMMARY:Incontro con la Commissione Indipendente di Vigilanza
DESCRIPTION:Incontro con la Commissione Indipendente di Vigilanza \n
URL:https://www.diocesidiroma.it/event/incontro-con-la-commissione-indipendente-di-vigilanza/
CATEGORIES:Vicario Generale
END:VEVENT
END:VCALENDAR