BEGIN:VCALENDAR
VERSION:2.0
PRODID:-//DIOCESI DI ROMA - ECPv4.6.14.1//NONSGML v1.0//EN
CALSCALE:GREGORIAN
METHOD:PUBLISH
X-WR-CALNAME:DIOCESI DI ROMA
X-ORIGINAL-URL:https://www.diocesidiroma.it
X-WR-CALDESC:Eventi per DIOCESI DI ROMA
BEGIN:VEVENT
DTSTART;TZID=Europe/Rome:20260309T203000
DTEND;TZID=Europe/Rome:20260309T203000
DTSTAMP:20260421T070542
CREATED:20260305T114857Z
LAST-MODIFIED:20260305T114857Z
UID:40344-1773088200-1773088200@www.diocesidiroma.it
SUMMARY:Incontro con la comunità capi e gli assistenti scout Agesci del settore Est
DESCRIPTION:Incontro con la comunità capi e gli assistenti scout Agesci del settore Est \n
URL:https://www.diocesidiroma.it/event/incontro-con-la-comunita-capi-e-gli-assistenti-scout-agesci-del-settore-est/
CATEGORIES:Vicario Generale
END:VEVENT
END:VCALENDAR