BEGIN:VCALENDAR
VERSION:2.0
PRODID:-//DIOCESI DI ROMA - ECPv4.6.14.1//NONSGML v1.0//EN
CALSCALE:GREGORIAN
METHOD:PUBLISH
X-WR-CALNAME:DIOCESI DI ROMA
X-ORIGINAL-URL:https://www.diocesidiroma.it
X-WR-CALDESC:Eventi per DIOCESI DI ROMA
BEGIN:VEVENT
DTSTART;TZID=Europe/Rome:20260317T163000
DTEND;TZID=Europe/Rome:20260317T163000
DTSTAMP:20260421T085244
CREATED:20260311T150137Z
LAST-MODIFIED:20260311T150137Z
UID:40455-1773765000-1773765000@www.diocesidiroma.it
SUMMARY:Incontro con la Conferenza Italiana dei Superiori Maggiori (Cism)
DESCRIPTION:Incontro con la Conferenza Italiana dei Superiori Maggiori (Cism) \n
URL:https://www.diocesidiroma.it/event/incontro-con-la-conferenza-italiana-dei-superiori-maggiori-cism/
CATEGORIES:Vicario Generale
END:VEVENT
END:VCALENDAR