BEGIN:VCALENDAR
VERSION:2.0
PRODID:-//DIOCESI DI ROMA - ECPv4.6.14.1//NONSGML v1.0//EN
CALSCALE:GREGORIAN
METHOD:PUBLISH
X-WR-CALNAME:DIOCESI DI ROMA
X-ORIGINAL-URL:https://www.diocesidiroma.it
X-WR-CALDESC:Eventi per DIOCESI DI ROMA
BEGIN:VEVENT
DTSTART;TZID=Europe/Rome:20250410T123000
DTEND;TZID=Europe/Rome:20250410T123000
DTSTAMP:20260423T114233
CREATED:20250404T094504Z
LAST-MODIFIED:20250404T094504Z
UID:34986-1744288200-1744288200@www.diocesidiroma.it
SUMMARY:Incontro con la magnifica rettrice dell’università cattolica del Sacro Cuore\, prof.ssa Elena Beccalli
DESCRIPTION:Incontro con la magnifica rettrice dell’università cattolica del Sacro Cuore\, prof.ssa Elena Beccalli \n
URL:https://www.diocesidiroma.it/event/incontro-con-la-magnifica-rettrice-delluniversita-cattolica-del-sacro-cuore-prof-ssa-elena-beccalli/
CATEGORIES:Vicario Generale
END:VEVENT
END:VCALENDAR