BEGIN:VCALENDAR
VERSION:2.0
PRODID:-//DIOCESI DI ROMA - ECPv4.6.14.1//NONSGML v1.0//EN
CALSCALE:GREGORIAN
METHOD:PUBLISH
X-WR-CALNAME:DIOCESI DI ROMA
X-ORIGINAL-URL:https://www.diocesidiroma.it
X-WR-CALDESC:Eventi per DIOCESI DI ROMA
BEGIN:VEVENT
DTSTART;TZID=Europe/Rome:20251124T093000
DTEND;TZID=Europe/Rome:20251124T113000
DTSTAMP:20260421T165915
CREATED:20251119T144600Z
LAST-MODIFIED:20251119T144600Z
UID:38669-1763976600-1763983800@www.diocesidiroma.it
SUMMARY:Incontro con la Pontificia Commissione per lo Stato della Città del Vaticano
DESCRIPTION:Incontro con la Pontificia Commissione per lo Stato della Città del Vaticano \n
URL:https://www.diocesidiroma.it/event/incontro-con-la-pontificia-commissione-per-lo-stato-della-citta-del-vaticano/
CATEGORIES:Vicario Generale
END:VEVENT
END:VCALENDAR