BEGIN:VCALENDAR
VERSION:2.0
PRODID:-//DIOCESI DI ROMA - ECPv4.6.14.1//NONSGML v1.0//EN
CALSCALE:GREGORIAN
METHOD:PUBLISH
X-WR-CALNAME:DIOCESI DI ROMA
X-ORIGINAL-URL:https://www.diocesidiroma.it
X-WR-CALDESC:Eventi per DIOCESI DI ROMA
BEGIN:VEVENT
DTSTART;TZID=Europe/Rome:20260307T103000
DTEND;TZID=Europe/Rome:20260307T103000
DTSTAMP:20260420T224451
CREATED:20260226T110616Z
LAST-MODIFIED:20260226T110616Z
UID:40225-1772879400-1772879400@www.diocesidiroma.it
SUMMARY:Incontro con l’Associazione Volontari in Carcere
DESCRIPTION:Incontro con l’Associazione Volontari in Carcere  \n
URL:https://www.diocesidiroma.it/event/incontro-con-lassociazione-volontari-in-carcere/
CATEGORIES:Vicario Generale
END:VEVENT
END:VCALENDAR