BEGIN:VCALENDAR
VERSION:2.0
PRODID:-//DIOCESI DI ROMA - ECPv4.6.14.1//NONSGML v1.0//EN
CALSCALE:GREGORIAN
METHOD:PUBLISH
X-WR-CALNAME:DIOCESI DI ROMA
X-ORIGINAL-URL:https://www.diocesidiroma.it
X-WR-CALDESC:Eventi per DIOCESI DI ROMA
BEGIN:VEVENT
DTSTART;VALUE=DATE:20241223
DTEND;VALUE=DATE:20241224
DTSTAMP:20260422T192515
CREATED:20241220T073108Z
LAST-MODIFIED:20241220T073131Z
UID:32765-1734912000-1734998399@www.diocesidiroma.it
SUMMARY:Nel pomeriggio incontro con l’equipe sinodale diocesana
DESCRIPTION:Nel pomeriggio incontro con l’equipe sinodale diocesana \n
URL:https://www.diocesidiroma.it/event/incontro-con-lequipe-sinodale-diocesana/
CATEGORIES:Vicario Generale
END:VEVENT
END:VCALENDAR