BEGIN:VCALENDAR
VERSION:2.0
PRODID:-//DIOCESI DI ROMA - ECPv4.6.14.1//NONSGML v1.0//EN
CALSCALE:GREGORIAN
METHOD:PUBLISH
X-WR-CALNAME:DIOCESI DI ROMA
X-ORIGINAL-URL:https://www.diocesidiroma.it
X-WR-CALDESC:Eventi per DIOCESI DI ROMA
BEGIN:VEVENT
DTSTART;TZID=Europe/Rome:20250619T193000
DTEND;TZID=Europe/Rome:20250619T193000
DTSTAMP:20260424T121318
CREATED:20250616T072744Z
LAST-MODIFIED:20250616T072758Z
UID:36106-1750361400-1750361400@www.diocesidiroma.it
SUMMARY:Incontro con l’équipe sinodale
DESCRIPTION:Incontro con l’équipe sinodale  \n
URL:https://www.diocesidiroma.it/event/incontro-con-lequipe-sinodale/
CATEGORIES:Vicario Generale
END:VEVENT
END:VCALENDAR