BEGIN:VCALENDAR
VERSION:2.0
PRODID:-//DIOCESI DI ROMA - ECPv4.6.14.1//NONSGML v1.0//EN
CALSCALE:GREGORIAN
METHOD:PUBLISH
X-WR-CALNAME:DIOCESI DI ROMA
X-ORIGINAL-URL:https://www.diocesidiroma.it
X-WR-CALDESC:Eventi per DIOCESI DI ROMA
BEGIN:VEVENT
DTSTART;TZID=Europe/Rome:20250228T150000
DTEND;TZID=Europe/Rome:20250228T150000
DTSTAMP:20260421T004753
CREATED:20250221T074506Z
LAST-MODIFIED:20250221T081920Z
UID:34042-1740754800-1740754800@www.diocesidiroma.it
SUMMARY:Riflessioni sul tema dell’abitare a Roma con parlamentari e amministratori pubblici
DESCRIPTION:Riflessioni sul tema dell’abitare a Roma con parlamentari e amministratori pubblici  \n
URL:https://www.diocesidiroma.it/event/incontro-con-parlamentari-e-amministratori-pubblici/
CATEGORIES:Vicario Generale
END:VEVENT
END:VCALENDAR