BEGIN:VCALENDAR
VERSION:2.0
PRODID:-//DIOCESI DI ROMA - ECPv4.6.14.1//NONSGML v1.0//EN
CALSCALE:GREGORIAN
METHOD:PUBLISH
X-WR-CALNAME:DIOCESI DI ROMA
X-ORIGINAL-URL:https://www.diocesidiroma.it
X-WR-CALDESC:Eventi per DIOCESI DI ROMA
BEGIN:VEVENT
DTSTART;TZID=Europe/Rome:20191018T200000
DTEND;TZID=Europe/Rome:20191018T200000
DTSTAMP:20260421T023031
CREATED:20190917T061428Z
LAST-MODIFIED:20190917T061428Z
UID:8388-1571428800-1571428800@www.diocesidiroma.it
SUMMARY:Incontro culturale su "Caravaggio tradito" a Santa Maria in Vallicella
DESCRIPTION:Incontro culturale su “Caravaggio tradito” a Santa Maria in Vallicella\, promosso dal Servizio cultura e università della diocesi di Roma. \n
URL:https://www.diocesidiroma.it/event/incontro-culturale-su-caravaggio-tradito-a-santa-maria-in-vallicella/
CATEGORIES:Iniziative degli Uffici
END:VEVENT
END:VCALENDAR