BEGIN:VCALENDAR
VERSION:2.0
PRODID:-//DIOCESI DI ROMA - ECPv4.6.14.1//NONSGML v1.0//EN
CALSCALE:GREGORIAN
METHOD:PUBLISH
X-WR-CALNAME:DIOCESI DI ROMA
X-ORIGINAL-URL:https://www.diocesidiroma.it
X-WR-CALDESC:Eventi per DIOCESI DI ROMA
BEGIN:VEVENT
DTSTART;TZID=Europe/Rome:20231130T000000
DTEND;TZID=Europe/Rome:20231130T000000
DTSTAMP:20260423T201505
CREATED:20231006T094024Z
LAST-MODIFIED:20231006T094030Z
UID:27576-1701302400-1701302400@www.diocesidiroma.it
SUMMARY:Incontro dei parroci di prima nomina con il Cardinale Vicario (Uff. form. perm. clero)
DESCRIPTION:Incontro dei parroci di prima nomina con il Cardinale Vicario (Uff. form. perm. clero) \n
URL:https://www.diocesidiroma.it/event/incontro-dei-parroci-di-prima-nomina-con-il-cardinale-vicario-uff-form-perm-clero/
CATEGORIES:In Diocesi,Iniziative degli Uffici
END:VEVENT
END:VCALENDAR