BEGIN:VCALENDAR
VERSION:2.0
PRODID:-//DIOCESI DI ROMA - ECPv4.6.14.1//NONSGML v1.0//EN
CALSCALE:GREGORIAN
METHOD:PUBLISH
X-WR-CALNAME:DIOCESI DI ROMA
X-ORIGINAL-URL:https://www.diocesidiroma.it
X-WR-CALDESC:Eventi per DIOCESI DI ROMA
BEGIN:VEVENT
DTSTART;TZID=Europe/Rome:20240115T000000
DTEND;TZID=Europe/Rome:20240116T000000
DTSTAMP:20260422T173520
CREATED:20240102T105411Z
LAST-MODIFIED:20240102T105411Z
UID:28256-1705276800-1705363200@www.diocesidiroma.it
SUMMARY:Incontro dei presbiteri dal 1° al 6° anno di ordinazione (2023-2018) con il Cardinale Vicario Angelo De Donatis - Casa della Resurrezione a Montefiolo (Uff. form. perm. clero)
DESCRIPTION:Incontro dei presbiteri dal 1° al 6° anno di ordinazione (2023-2018) con il Cardinale Vicario Angelo De Donatis – Casa della Resurrezione a Montefiolo (Uff. form. perm. clero) \n
URL:https://www.diocesidiroma.it/event/incontro-dei-presbiteri-dal-1-al-6-anno-di-ordinazione-2023-2018-con-il-cardinale-vicario-angelo-de-donatis-casa-della-resurrezione-a-montefiolo-uff-form-perm-clero/
CATEGORIES:In Diocesi,Iniziative degli Uffici
END:VEVENT
END:VCALENDAR