BEGIN:VCALENDAR
VERSION:2.0
PRODID:-//DIOCESI DI ROMA - ECPv4.6.14.1//NONSGML v1.0//EN
CALSCALE:GREGORIAN
METHOD:PUBLISH
X-WR-CALNAME:DIOCESI DI ROMA
X-ORIGINAL-URL:https://www.diocesidiroma.it
X-WR-CALDESC:Eventi per DIOCESI DI ROMA
BEGIN:VEVENT
DTSTART;TZID=Europe/Rome:20231111T090000
DTEND;TZID=Europe/Rome:20231111T130000
DTSTAMP:20260421T030124
CREATED:20231006T084941Z
LAST-MODIFIED:20231006T084941Z
UID:27529-1699693200-1699707600@www.diocesidiroma.it
SUMMARY:Incontro dei sacerdoti studenti e collaboratori con il Cardinale Vicario - Pontificio Seminario Seminario Maggiore (Sala Tiberiade) (Uff. form. perm. clero)
DESCRIPTION:Incontro dei sacerdoti studenti e collaboratori con il Cardinale Vicario – Pontificio Seminario Seminario Maggiore (Sala Tiberiade) (Uff. form. perm. clero) \n
URL:https://www.diocesidiroma.it/event/incontro-dei-sacerdoti-studenti-e-collaboratori-con-il-cardinale-vicario-pontificio-seminario-seminario-maggiore-sala-tiberiade-uff-form-perm-clero/
CATEGORIES:In Diocesi,Iniziative degli Uffici
END:VEVENT
END:VCALENDAR