BEGIN:VCALENDAR
VERSION:2.0
PRODID:-//DIOCESI DI ROMA - ECPv4.6.14.1//NONSGML v1.0//EN
CALSCALE:GREGORIAN
METHOD:PUBLISH
X-WR-CALNAME:DIOCESI DI ROMA
X-ORIGINAL-URL:https://www.diocesidiroma.it
X-WR-CALDESC:Eventi per DIOCESI DI ROMA
BEGIN:VEVENT
DTSTART;TZID=Europe/Rome:20200926T100000
DTEND;TZID=Europe/Rome:20200926T100000
DTSTAMP:20260421T104711
CREATED:20200917T072145Z
LAST-MODIFIED:20200917T072145Z
UID:11623-1601114400-1601114400@www.diocesidiroma.it
SUMMARY:Incontro del cardinale vicario con gli operatori pastorali nella basilica di San Giovanni in Laterano
DESCRIPTION:Incontro del cardinale vicario con gli operatori pastorali nella basilica di San Giovanni in Laterano \n
URL:https://www.diocesidiroma.it/event/incontro-del-cardinale-vicario-con-gli-operatori-pastorali-nella-basilica-di-san-giovanni-in-laterano/
CATEGORIES:In Diocesi
END:VEVENT
END:VCALENDAR