BEGIN:VCALENDAR
VERSION:2.0
PRODID:-//DIOCESI DI ROMA - ECPv4.6.14.1//NONSGML v1.0//EN
CALSCALE:GREGORIAN
METHOD:PUBLISH
X-WR-CALNAME:DIOCESI DI ROMA
X-ORIGINAL-URL:https://www.diocesidiroma.it
X-WR-CALDESC:Eventi per DIOCESI DI ROMA
BEGIN:VEVENT
DTSTART;VALUE=DATE:20251017
DTEND;VALUE=DATE:20251018
DTSTAMP:20260420T184437
CREATED:20250910T105825Z
LAST-MODIFIED:20250910T105825Z
UID:36918-1760659200-1760745599@www.diocesidiroma.it
SUMMARY:Incontro del Cardinale Vicario\, con i rettori di tutte le università romane\, Palazzo Lateranense - ore 15.00; "Oltre quello che c'è" a cura dell'Accademia Nazionale d'arte Drammatica Silvio d'Amico\, ore 18.00; Concerto sinfonico a cura del Conservatorio di musica Santa Cecilia\, Santa Croce in Gerusalemme - ore 21.00 (Uff. per la Pastorale Universitaria)
DESCRIPTION:Incontro del Cardinale Vicario\, con i rettori di tutte le università romane\, Palazzo Lateranense – ore 15.00; “Oltre quello che c’è” a cura dell’Accademia Nazionale d’arte Drammatica Silvio d’Amico\, ore 18.00; Concerto sinfonico a cura del Conservatorio di musica Santa Cecilia\, Santa Croce in Gerusalemme – ore 21.00 (Uff. per la Pastorale Universitaria)           \n
URL:https://www.diocesidiroma.it/event/incontro-del-cardinale-vicario-con-i-rettori-di-tutte-le-universita-romane-palazzo-lateranense-ore-15-00-oltre-quello-che-ce-a-cura-dellaccademia-nazionale-darte-drammatica-silvio-dam/
CATEGORIES:In Diocesi,Iniziative degli Uffici
END:VEVENT
END:VCALENDAR