BEGIN:VCALENDAR
VERSION:2.0
PRODID:-//DIOCESI DI ROMA - ECPv4.6.14.1//NONSGML v1.0//EN
CALSCALE:GREGORIAN
METHOD:PUBLISH
X-WR-CALNAME:DIOCESI DI ROMA
X-ORIGINAL-URL:https://www.diocesidiroma.it
X-WR-CALDESC:Eventi per DIOCESI DI ROMA
BEGIN:VEVENT
DTSTART;TZID=Europe/Rome:20180924T183000
DTEND;TZID=Europe/Rome:20180924T183000
DTSTAMP:20260423T065053
CREATED:20180912T104551Z
LAST-MODIFIED:20180912T111058Z
UID:4340-1537813800-1537813800@www.diocesidiroma.it
SUMMARY:Incontro del cardinale vicario con la comunità del settore Centro
DESCRIPTION:Incontro del cardinale vicario con la comunità del settore Centro per presentare il progetto pastorale diocesano\, nella basilica di Santa Croce in Gerusalemme. \n
URL:https://www.diocesidiroma.it/event/incontro-del-cardinale-vicario-con-la-comunita-del-settore-centro/
CATEGORIES:NON USARE --- Agenda del Vicario
END:VEVENT
END:VCALENDAR