BEGIN:VCALENDAR
VERSION:2.0
PRODID:-//DIOCESI DI ROMA - ECPv4.6.14.1//NONSGML v1.0//EN
CALSCALE:GREGORIAN
METHOD:PUBLISH
X-WR-CALNAME:DIOCESI DI ROMA
X-ORIGINAL-URL:https://www.diocesidiroma.it
X-WR-CALDESC:Eventi per DIOCESI DI ROMA
BEGIN:VEVENT
DTSTART;TZID=Europe/Rome:20180918T190000
DTEND;TZID=Europe/Rome:20180918T190000
DTSTAMP:20260424T110450
CREATED:20180912T104121Z
LAST-MODIFIED:20180912T104205Z
UID:4333-1537297200-1537297200@www.diocesidiroma.it
SUMMARY:Incontro del cardinale vicario con la comunità del settore Est
DESCRIPTION:Incontro del cardinale vicario con la comunità del settore Est per presentare il progetto pastorale diocesano\, nella parrocchia di Ognissanti. \n
URL:https://www.diocesidiroma.it/event/incontro-del-cardinale-vicario-con-la-comunita-del-settore-est/
CATEGORIES:NON USARE --- Agenda del Vicario
END:VEVENT
END:VCALENDAR