BEGIN:VCALENDAR
VERSION:2.0
PRODID:-//DIOCESI DI ROMA - ECPv4.6.14.1//NONSGML v1.0//EN
CALSCALE:GREGORIAN
METHOD:PUBLISH
X-WR-CALNAME:DIOCESI DI ROMA
X-ORIGINAL-URL:https://www.diocesidiroma.it
X-WR-CALDESC:Eventi per DIOCESI DI ROMA
BEGIN:VEVENT
DTSTART;TZID=Europe/Rome:20190321T190000
DTEND;TZID=Europe/Rome:20190321T190000
DTSTAMP:20260421T203013
CREATED:20190218T084709Z
LAST-MODIFIED:20190218T084709Z
UID:6595-1553194800-1553194800@www.diocesidiroma.it
SUMMARY:Incontro del percorso di aiuto per l'elaborazione del lutto del Centro diocesano per la pastorale familiare
DESCRIPTION:Incontro del percorso di aiuto per l’elaborazione del lutto del Centro diocesano per la pastorale familiare; il tema sarà “La speranza\, il motore di una vita nuova”. Presso la Sala della Pinacoteca del Pontificio Seminario Romano Maggiore. \n
URL:https://www.diocesidiroma.it/event/incontro-del-percorso-di-aiuto-per-lelaborazione-del-lutto-del-centro-diocesano-per-la-pastorale-familiare-3/
CATEGORIES:Iniziative degli Uffici
END:VEVENT
END:VCALENDAR