BEGIN:VCALENDAR
VERSION:2.0
PRODID:-//DIOCESI DI ROMA - ECPv4.6.14.1//NONSGML v1.0//EN
CALSCALE:GREGORIAN
METHOD:PUBLISH
X-WR-CALNAME:DIOCESI DI ROMA
X-ORIGINAL-URL:https://www.diocesidiroma.it
X-WR-CALDESC:Eventi per DIOCESI DI ROMA
BEGIN:VEVENT
DTSTART;TZID=Europe/Rome:20190506T190000
DTEND;TZID=Europe/Rome:20190506T210000
DTSTAMP:20260422T013558
CREATED:20190219T074640Z
LAST-MODIFIED:20190219T074640Z
UID:6650-1557169200-1557176400@www.diocesidiroma.it
SUMMARY:Incontro del percorso “Genitori si diventa” del Centro diocesano per la pastorale familiare
DESCRIPTION:Incontro del percorso “Genitori si diventa” del Centro diocesano per la pastorale familiare; il tema sarà “Social e media: il Paese dei balocchi?”\, con Carlo Stacchiola dell’Associazione Arché. Nella Sala Conferenze del Pontificio Seminario Romano Maggiore.  \n
URL:https://www.diocesidiroma.it/event/incontro-del-percorso-genitori-si-diventa-del-centro-diocesano-per-la-pastorale-familiare-5/
CATEGORIES:Iniziative degli Uffici
END:VEVENT
END:VCALENDAR