BEGIN:VCALENDAR
VERSION:2.0
PRODID:-//DIOCESI DI ROMA - ECPv4.6.14.1//NONSGML v1.0//EN
CALSCALE:GREGORIAN
METHOD:PUBLISH
X-WR-CALNAME:DIOCESI DI ROMA
X-ORIGINAL-URL:https://www.diocesidiroma.it
X-WR-CALDESC:Eventi per DIOCESI DI ROMA
BEGIN:VEVENT
DTSTART;TZID=Europe/Rome:20190304T190000
DTEND;TZID=Europe/Rome:20190304T210000
DTSTAMP:20260421T042419
CREATED:20190218T085317Z
LAST-MODIFIED:20190218T085317Z
UID:6602-1551726000-1551733200@www.diocesidiroma.it
SUMMARY:Incontro del percorso "Genitori si diventa" del Centro diocesano per la pastorale familiare
DESCRIPTION:Incontro del percorso “Genitori si diventa” del Centro diocesano per la pastorale familiare. Il tema sarà “La negazione educativa” con Zbigniew Formella dell’Università Pontificia Salesiana. Nella Sala Conferenze del Pontificio Seminario Maggiore. \n
URL:https://www.diocesidiroma.it/event/incontro-del-percorso-genitori-si-diventa-del-centro-diocesano-per-la-pastorale-familiare/
CATEGORIES:Iniziative degli Uffici
END:VEVENT
END:VCALENDAR