BEGIN:VCALENDAR
VERSION:2.0
PRODID:-//DIOCESI DI ROMA - ECPv4.6.14.1//NONSGML v1.0//EN
CALSCALE:GREGORIAN
METHOD:PUBLISH
X-WR-CALNAME:DIOCESI DI ROMA
X-ORIGINAL-URL:https://www.diocesidiroma.it
X-WR-CALDESC:Eventi per DIOCESI DI ROMA
BEGIN:VEVENT
DTSTART;TZID=Europe/Rome:20250617T093000
DTEND;TZID=Europe/Rome:20250617T093000
DTSTAMP:20260424T121513
CREATED:20250616T072114Z
LAST-MODIFIED:20250616T072114Z
UID:36087-1750152600-1750152600@www.diocesidiroma.it
SUMMARY:Incontro del Santo Padre con i Vescovi italiani
DESCRIPTION:Incontro del Santo Padre con i Vescovi italiani \n
URL:https://www.diocesidiroma.it/event/incontro-del-santo-padre-con-i-vescovi-italiani/
CATEGORIES:Vicario Generale
END:VEVENT
END:VCALENDAR