BEGIN:VCALENDAR
VERSION:2.0
PRODID:-//DIOCESI DI ROMA - ECPv4.6.14.1//NONSGML v1.0//EN
CALSCALE:GREGORIAN
METHOD:PUBLISH
X-WR-CALNAME:DIOCESI DI ROMA
X-ORIGINAL-URL:https://www.diocesidiroma.it
X-WR-CALDESC:Eventi per DIOCESI DI ROMA
BEGIN:VEVENT
DTSTART;VALUE=DATE:20170918
DTEND;VALUE=DATE:20170919
DTSTAMP:20260425T143316
CREATED:20171228T111635Z
LAST-MODIFIED:20171228T111635Z
UID:306-1505692800-1505779199@www.diocesidiroma.it
SUMMARY:Incontro del Vicario con gli operatori pastorali  laici e mandato ai catechisti
DESCRIPTION:
URL:https://www.diocesidiroma.it/event/incontro-del-vicario-con-gli-operatori-pastorali-laici-e-mandato-ai-catechisti/
CATEGORIES:Iniziative degli Uffici
END:VEVENT
END:VCALENDAR