BEGIN:VCALENDAR
VERSION:2.0
PRODID:-//DIOCESI DI ROMA - ECPv4.6.14.1//NONSGML v1.0//EN
CALSCALE:GREGORIAN
METHOD:PUBLISH
X-WR-CALNAME:DIOCESI DI ROMA
X-ORIGINAL-URL:https://www.diocesidiroma.it
X-WR-CALDESC:Eventi per DIOCESI DI ROMA
BEGIN:VEVENT
DTSTART;VALUE=DATE:20260704
DTEND;VALUE=DATE:20260705
DTSTAMP:20260421T154122
CREATED:20251215T104045Z
LAST-MODIFIED:20251215T104045Z
UID:39122-1783123200-1783209599@www.diocesidiroma.it
SUMMARY:Incontro delle Famiglie della Diocesi di Roma 4-5 luglio (Uff. per la Pastorale familiare)
DESCRIPTION:Incontro delle Famiglie della Diocesi di Roma 4-5 luglio (Uff. per la Pastorale familiare) \n
URL:https://www.diocesidiroma.it/event/incontro-delle-famiglie-della-diocesi-di-roma-4-5-luglio-uff-per-la-pastorale-familiare/
CATEGORIES:In Diocesi,Iniziative degli Uffici
END:VEVENT
END:VCALENDAR