BEGIN:VCALENDAR
VERSION:2.0
PRODID:-//DIOCESI DI ROMA - ECPv4.6.14.1//NONSGML v1.0//EN
CALSCALE:GREGORIAN
METHOD:PUBLISH
X-WR-CALNAME:DIOCESI DI ROMA
X-ORIGINAL-URL:https://www.diocesidiroma.it
X-WR-CALDESC:Eventi per DIOCESI DI ROMA
BEGIN:VEVENT
DTSTART;VALUE=DATE:20240706
DTEND;VALUE=DATE:20240707
DTSTAMP:20260425T184442
CREATED:20240424T142226Z
LAST-MODIFIED:20240424T142241Z
UID:29779-1720224000-1720310399@www.diocesidiroma.it
SUMMARY:Incontro delle famiglie della Diocesi di Roma - Uff. past. familiare
DESCRIPTION:Incontro delle famiglie della Diocesi di Roma – Uff. past. familiare \n
URL:https://www.diocesidiroma.it/event/incontro-delle-famiglie-della-diocesi-di-roma-uff-past-familiare/2024-07-06/
CATEGORIES:In Diocesi,Iniziative degli Uffici
END:VEVENT
END:VCALENDAR