BEGIN:VCALENDAR
VERSION:2.0
PRODID:-//DIOCESI DI ROMA - ECPv4.6.14.1//NONSGML v1.0//EN
CALSCALE:GREGORIAN
METHOD:PUBLISH
X-WR-CALNAME:DIOCESI DI ROMA
X-ORIGINAL-URL:https://www.diocesidiroma.it
X-WR-CALDESC:Eventi per DIOCESI DI ROMA
BEGIN:VEVENT
DTSTART;TZID=Europe/Rome:20191214T093000
DTEND;TZID=Europe/Rome:20191214T093000
DTSTAMP:20260424T222403
CREATED:20191118T103352Z
LAST-MODIFIED:20191118T103352Z
UID:9326-1576315800-1576315800@www.diocesidiroma.it
SUMMARY:Incontro di Avvento per i docenti di religione cattolica a San Marco Evangelista in Campidoglio
DESCRIPTION:Incontro di Avvento per i docenti di religione cattolica a San Marco Evangelista in Campidoglio\, a cura dell’Ufficio Scuola. \n
URL:https://www.diocesidiroma.it/event/incontro-di-avvento-per-i-docenti-di-religione-cattolica-a-san-marco-evangelista-in-campidoglio/
CATEGORIES:Iniziative degli Uffici
END:VEVENT
END:VCALENDAR