BEGIN:VCALENDAR
VERSION:2.0
PRODID:-//DIOCESI DI ROMA - ECPv4.6.14.1//NONSGML v1.0//EN
CALSCALE:GREGORIAN
METHOD:PUBLISH
X-WR-CALNAME:DIOCESI DI ROMA
X-ORIGINAL-URL:https://www.diocesidiroma.it
X-WR-CALDESC:Eventi per DIOCESI DI ROMA
BEGIN:VEVENT
DTSTART;VALUE=DATE:20180609
DTEND;VALUE=DATE:20180610
DTSTAMP:20260424T095621
CREATED:20171228T142720Z
LAST-MODIFIED:20171228T142720Z
UID:730-1528502400-1528588799@www.diocesidiroma.it
SUMMARY:Incontro di chiusura dell’anno pastorale
DESCRIPTION:
URL:https://www.diocesidiroma.it/event/incontro-di-chiusura-dellanno-pastorale/
CATEGORIES:In Diocesi
END:VEVENT
END:VCALENDAR