BEGIN:VCALENDAR
VERSION:2.0
PRODID:-//DIOCESI DI ROMA - ECPv4.6.14.1//NONSGML v1.0//EN
CALSCALE:GREGORIAN
METHOD:PUBLISH
X-WR-CALNAME:DIOCESI DI ROMA
X-ORIGINAL-URL:https://www.diocesidiroma.it
X-WR-CALDESC:Eventi per DIOCESI DI ROMA
BEGIN:VEVENT
DTSTART;TZID=Europe/Rome:20181005T000000
DTEND;TZID=Europe/Rome:20181005T000000
DTSTAMP:20260424T113446
CREATED:20180912T123340Z
LAST-MODIFIED:20180912T123340Z
UID:4372-1538697600-1538697600@www.diocesidiroma.it
SUMMARY:Incontro di conoscenza e dialogo con i movimenti popolari
DESCRIPTION:Incontro di conoscenza e dialogo con i movimenti popolari promosso dall’Ufficio di pastorale sociale. \n
URL:https://www.diocesidiroma.it/event/incontro-di-conoscenza-e-dialogo-con-i-movimenti-popolari/
CATEGORIES:Iniziative degli Uffici
END:VEVENT
END:VCALENDAR