BEGIN:VCALENDAR
VERSION:2.0
PRODID:-//DIOCESI DI ROMA - ECPv4.6.14.1//NONSGML v1.0//EN
CALSCALE:GREGORIAN
METHOD:PUBLISH
X-WR-CALNAME:DIOCESI DI ROMA
X-ORIGINAL-URL:https://www.diocesidiroma.it
X-WR-CALDESC:Eventi per DIOCESI DI ROMA
BEGIN:VEVENT
DTSTART;TZID=Europe/Rome:20181124T100000
DTEND;TZID=Europe/Rome:20181124T100000
DTSTAMP:20260422T165905
CREATED:20180913T082512Z
LAST-MODIFIED:20181121T143928Z
UID:4537-1543053600-1543053600@www.diocesidiroma.it
SUMMARY:Incontro di formazione in Vicariato
DESCRIPTION:Incontro di formazione al Vicariato di Roma promosso dall’Ufficio Migrantes e dal Centro missionario. \n
URL:https://www.diocesidiroma.it/event/incontro-di-formazione-al-maggiore/
CATEGORIES:Iniziative degli Uffici
END:VEVENT
END:VCALENDAR