BEGIN:VCALENDAR
VERSION:2.0
PRODID:-//DIOCESI DI ROMA - ECPv4.6.14.1//NONSGML v1.0//EN
CALSCALE:GREGORIAN
METHOD:PUBLISH
X-WR-CALNAME:DIOCESI DI ROMA
X-ORIGINAL-URL:https://www.diocesidiroma.it
X-WR-CALDESC:Eventi per DIOCESI DI ROMA
BEGIN:VEVENT
DTSTART;TZID=Europe/Rome:20260324T180000
DTEND;TZID=Europe/Rome:20260324T200000
DTSTAMP:20260421T032340
CREATED:20250903T064153Z
LAST-MODIFIED:20250903T064153Z
UID:36709-1774375200-1774382400@www.diocesidiroma.it
SUMMARY:Incontro di formazione al volontariato diocesano
DESCRIPTION:Incontro di formazione al volontariato diocesano nella Sala Conferenze del Pontificio Seminario Maggiore \n
URL:https://www.diocesidiroma.it/event/incontro-di-formazione-al-volontariato-diocesano-6/
CATEGORIES:In Diocesi,Iniziative degli Uffici
END:VEVENT
END:VCALENDAR