BEGIN:VCALENDAR
VERSION:2.0
PRODID:-//DIOCESI DI ROMA - ECPv4.6.14.1//NONSGML v1.0//EN
CALSCALE:GREGORIAN
METHOD:PUBLISH
X-WR-CALNAME:DIOCESI DI ROMA
X-ORIGINAL-URL:https://www.diocesidiroma.it
X-WR-CALDESC:Eventi per DIOCESI DI ROMA
BEGIN:VEVENT
DTSTART;TZID=Europe/Rome:20181129T183000
DTEND;TZID=Europe/Rome:20181129T183000
DTSTAMP:20260421T021444
CREATED:20180913T083513Z
LAST-MODIFIED:20180913T083617Z
UID:4551-1543516200-1543516200@www.diocesidiroma.it
SUMMARY:Incontro di formazione con i missionari degli ambienti di lavoro
DESCRIPTION:Incontro di formazione con i missionari degli ambienti di lavoro\, a cura dell’Ufficio per la pastorale sociale. \n
URL:https://www.diocesidiroma.it/event/incontro-di-formazione-con-i-missionari-degli-ambienti-di-lavoro-2/
CATEGORIES:Iniziative degli Uffici
END:VEVENT
END:VCALENDAR